BEGIN:VCALENDAR
VERSION:2.0
PRODID:-//Federação Nacional de Cooperativas de Solidariedade Social - ECPv6.15.20//NONSGML v1.0//EN
CALSCALE:GREGORIAN
METHOD:PUBLISH
X-WR-CALNAME:Federação Nacional de Cooperativas de Solidariedade Social
X-ORIGINAL-URL:https://www.fenacerci.pt
X-WR-CALDESC:Eventos para Federação Nacional de Cooperativas de Solidariedade Social
REFRESH-INTERVAL;VALUE=DURATION:PT1H
X-Robots-Tag:noindex
X-PUBLISHED-TTL:PT1H
BEGIN:VTIMEZONE
TZID:UTC
BEGIN:STANDARD
TZOFFSETFROM:+0000
TZOFFSETTO:+0000
TZNAME:UTC
DTSTART:20230101T000000
END:STANDARD
END:VTIMEZONE
BEGIN:VEVENT
DTSTART;TZID=UTC:20241211T140000
DTEND;TZID=UTC:20241211T170000
DTSTAMP:20260421T111539
CREATED:20241120T154651Z
LAST-MODIFIED:20241120T154741Z
UID:10030-1733925600-1733936400@www.fenacerci.pt
SUMMARY:Assembleia Geral da FENACERCI – Convocatória
DESCRIPTION:A FENACERCI vai reunir em Assembleia Geral no próximo dia 11 de dezembro\, pelas 14 horas\, na Biblioteca Municipal de Santa Maria da Feira. \nDa ordem de trabalhos constam assuntos como a ratificação da adesão de novas associadas e a discussão e votação do Plano de Atividades e Orçamento para 2025. \nEm cumprimento do estipulado no Art.º 31º dos Estatutos e do Artº 10º do Regulamento Interno da Federação\, as delegações das Associadas devem obrigatoriamente ser portadoras de credencial que lhes confira a possibilidade de representação\, sem a qual não poderão participar na Assembleia.\n\n Aceda aqui à Convocatória para a AG
URL:https://www.fenacerci.pt/evento/assembleia-geral-da-fenacerci-convocatoria/
ATTACH;FMTTYPE=image/jpeg:https://www.fenacerci.pt/wp-content/uploads/2019/11/Logo_Fenacerci-horiz.jpg
END:VEVENT
BEGIN:VEVENT
DTSTART;TZID=UTC:20241213T100000
DTEND;TZID=UTC:20241213T130000
DTSTAMP:20260421T111539
CREATED:20241209T114207Z
LAST-MODIFIED:20241209T114258Z
UID:10044-1734084000-1734094800@www.fenacerci.pt
SUMMARY:Encontro ODDH | “1974-2024: Da Invisibilidade à Cidadania: e os Direitos das Pessoas com Deficiência?”
DESCRIPTION:Realiza-se no próximo dia 13 de dezembro o Encontro do Observatório da Deficiência e Direitos Humanos (ODDH)\, dedicado ao tema “1974-2024: Da Invisibilidade à Cidadania: e os Direitos das Pessoas com Deficiência?”. \nJulieta Sanches\, presidente da FENACERCI\, integrará o painel de reflexão sobre as conquistas que\, no plano dos direitos humanos\, a implantação do estado democrático em Portugal trouxe para as pessoas com deficiência e as suas famílias\, assim como a agenda que ainda está por cumprir. Nesta mesa redonda participarão ainda o Coronel Lopes Dias (ADFA)\, Jorge Falcato (CVI)\, Manuela Ralha (CMVFX) e Mariana Bártolo (médica).\nO evento decorrerá online\, entre as 10h e as 13h.\nA participação é livre mas requer inscrição através de preenchimento de formulário. \nAceda aqui ao formulário de inscrição.
URL:https://www.fenacerci.pt/evento/encontro-oddh-1974-2024-da-invisibilidade-a-cidadania-e-os-direitos-das-pessoas-com-deficiencia/
CATEGORIES:Eventos
END:VEVENT
END:VCALENDAR