BEGIN:VCALENDAR
VERSION:2.0
PRODID:-//Federação Nacional de Cooperativas de Solidariedade Social - ECPv6.15.20//NONSGML v1.0//EN
CALSCALE:GREGORIAN
METHOD:PUBLISH
X-ORIGINAL-URL:https://www.fenacerci.pt
X-WR-CALDESC:Eventos para Federação Nacional de Cooperativas de Solidariedade Social
REFRESH-INTERVAL;VALUE=DURATION:PT1H
X-Robots-Tag:noindex
X-PUBLISHED-TTL:PT1H
BEGIN:VTIMEZONE
TZID:UTC
BEGIN:STANDARD
TZOFFSETFROM:+0000
TZOFFSETTO:+0000
TZNAME:UTC
DTSTART:20230101T000000
END:STANDARD
END:VTIMEZONE
BEGIN:VEVENT
DTSTART;VALUE=DATE:20241003
DTEND;VALUE=DATE:20241004
DTSTAMP:20260421T082509
CREATED:20240909T131458Z
LAST-MODIFIED:20240925T155111Z
UID:9933-1727913600-1727999999@www.fenacerci.pt
SUMMARY:“Hora #BEACTIVE – Ação Jamor” celebra Dia do Desporto Inclusivo
DESCRIPTION:Realiza-se no próximo dia 3 de outubro a 10ª edição da “Hora #BEACTIVE – Ação Jamor”\, numa organização conjunta da FENACERCI e do IPDJ – Instituto Português do Desporto e da Juventude. A iniciativa\, inserida na 10ª Semana Europeia do Desporto\, assinala o Dia do Desporto Inclusivo. \nDurante toda a manhã\, o Complexo Desportivo do Jamor vai receber centenas de participantes\, em representação de organizações de apoio a pessoas com deficiência de todo o país\, que serão convidados a experimentar um vasto conjunto de atividades desportivas e lúdicas\, tais como minigolfe\, canoagem\, hóquei\, atletismo\, esgrima\, corfebol\, artes marciais\, rugby\, ténis\, andebol\, escalada e jogos tradicionais\, entre outras. \nEm 2023\, a Ação Jamor envolveu mais de 300 pessoas com deficiência intelectual e/ou multideficiência\, de 31 organizações\, assim como 16 entidades parceiras que dinamizaram as atividades. \nA nível nacional\, a “Hora #BEACTIVE” – Dia do Desporto Inclusivo contou com um total de 1502 participantes. \nA Semana Europeia do Desporto\, que decorre de 23 a 30 de setembro\, é uma iniciativa da Comissão Europeia destinada a promover a atividade física e a prática desportiva regular no espaço europeu. \nO slogan #BeActive desafia todos os cidadãos\, independentemente da sua faixa etária ou condição física\, a participar nesta semana de celebração do desporto e a implementar\, ao longo do ano\, hábitos de vida ativa e saudável. \n \n 
URL:https://www.fenacerci.pt/evento/sed-2024-hora-beactive-acao-jamor-celebra-dia-do-desporto-inclusivo/
CATEGORIES:Eventos
END:VEVENT
BEGIN:VEVENT
DTSTART;VALUE=DATE:20241021
DTEND;VALUE=DATE:20241023
DTSTAMP:20260421T082509
CREATED:20241017T111443Z
LAST-MODIFIED:20241017T112041Z
UID:9982-1729468800-1729641599@www.fenacerci.pt
SUMMARY:FENACERCI participa em iniciativa de celebração do Dia Nacional das Acessibilidades
DESCRIPTION:O Instituto Nacional para a Reabilitação\, I.P. (INR\, I.P.) e a Estrutura de Missão para a Promoção das Acessibilidades (EMPA)\, em parceria com a Associação Salvador\, promovem o Dia Nacional das Acessibilidades\, que se assinala a 20 de outubro. \nNo âmbito da celebração desta data\, realiza-se uma iniciativa\, a 21 e 22 de outubro\, no auditório do IAPMEI\, em Lisboa\, com o intuito de promover uma reflexão alargada sobre a realidade portuguesa\, ponderando os diferentes níveis de responsabilidades\, abordando a perspetiva do caminho percorrido\, as necessidades que persistem\, e\, também\, as respostas em execução e os desafios futuros. Pretende-se envolver organizações não governamentais\, setor público\, setor privado\, social e comunidade em geral. \nJulieta Sanches\, presidente da FENACERCI\, participará num painel dedicado ao tema “Acessibilidade e inclusão nas escolas” (dia 22\, pelas 15h30). \nEste evento conta com o apoio do IAPMEI – Agência para a Competitividade e Inovação\, da Casa Pia de Lisboa\, do Instituto da Segurança Social e da Secretaria-Geral do Ministério do Trabalho\, Solidariedade e Segurança Social. \n \n\n Programa\n Link para inscrição
URL:https://www.fenacerci.pt/evento/fenacerci-participa-em-iniciativa-de-celebracao-do-dia-nacional-das-acessibilidades/
CATEGORIES:Eventos
END:VEVENT
BEGIN:VEVENT
DTSTART;TZID=UTC:20241023T100000
DTEND;TZID=UTC:20241023T113000
DTSTAMP:20260421T082509
CREATED:20241011T151809Z
LAST-MODIFIED:20241014T154053Z
UID:9968-1729677600-1729683000@www.fenacerci.pt
SUMMARY:FENACERCI e CERCIESPINHO promovem sessão sobre boas práticas de saúde mental na comunidade
DESCRIPTION:A FENACERCI vai realizar\, em conjunto com a CERCIESPINHO\, uma sessão para apresentação do serviço de Psiquiatria Comunitária desenvolvido pelo Serviço de Psiquiatria da Unidade Local de Saúde de Gaia e Espinho\, na CERCIESPINHO.\nEste evento\, que decorrerá online (via Zoom)\, terá lugar no próximo dia 23 de outubro\, das 10h às 11h30. \nA sessão\, destinada a organizações associadas da FENACERCI\, congéneres e respetivos profissionais\, visa partilhar uma boa prática na área da promoção da Saúde Mental de pessoas com deficiência intelectual e/ou multideficiência\, envolvendo familiares\, técnicos e comunidade. \nPrograma de trabalho:\n \n\n Breve enquadramento à Sessão – Ana Rita Peralta\, FENACERCI\n Apresentação do Projeto de Psiquiatria Comunitária desenvolvido pelo Serviço de Psiquiatria da Unidade Local de Saúde de Gaia e Espinho\, Dra. Ana Cristina David (Assistente Hospitalar Graduada/Coordenadora da Unidade de Psiquiatria Comunitária do CHVNG/E)\n Impactos do Serviço de Psiquiatria Comunitária na CERCIESPINHO\, Rosa Couto (Diretora Geral da CERCIESPINHO)\n Perguntas & Respostas\n\n\nA participação é gratuita mas requer inscrição prévia (até dia 18 de outubro)\, através do link: https://freeonlinesurveys.com/s/n3Kq1YZj
URL:https://www.fenacerci.pt/evento/fenacerci-e-cerciespinho-promovem-sessao-sobre-boas-praticas-de-saude-mental-na-comunidade/
CATEGORIES:Eventos
END:VEVENT
END:VCALENDAR