BEGIN:VCALENDAR
VERSION:2.0
PRODID:-//Federação Nacional de Cooperativas de Solidariedade Social - ECPv6.15.20//NONSGML v1.0//EN
CALSCALE:GREGORIAN
METHOD:PUBLISH
X-ORIGINAL-URL:https://www.fenacerci.pt
X-WR-CALDESC:Eventos para Federação Nacional de Cooperativas de Solidariedade Social
REFRESH-INTERVAL;VALUE=DURATION:PT1H
X-Robots-Tag:noindex
X-PUBLISHED-TTL:PT1H
BEGIN:VTIMEZONE
TZID:UTC
BEGIN:STANDARD
TZOFFSETFROM:+0000
TZOFFSETTO:+0000
TZNAME:UTC
DTSTART:20230101T000000
END:STANDARD
END:VTIMEZONE
BEGIN:VEVENT
DTSTART;TZID=UTC:20240717T103000
DTEND;TZID=UTC:20240717T123000
DTSTAMP:20260421T013646
CREATED:20240705T130956Z
LAST-MODIFIED:20240705T130956Z
UID:9855-1721212200-1721219400@www.fenacerci.pt
SUMMARY:Webinar “Representações sobre o conceito de empresa social: origens\, significado\, debates e fronteira”
DESCRIPTION:A CONFECOOP e ANIMAR levam a efeito\, no próximo dia 17 de julho\, um webinar de reflexão sobre as empresas sociais em Portugal. \nSob o tema “Representações sobre o conceito de empresa social: origens\, significado\, debates e fronteira”\, a sessão tem como oradoras convidadas Sílvia Ferreira (Investigadora do CES da Universidade de Coimbra) e Rocío Nogales (Diretora Executiva da EMES – International Research Network). \nPara participar\, deverá fazer inscrição prévia através do link que disponibilizamos aqui.\nA sessão decorrerá exclusivamente online\, entre as 10h30 e as 12h30.
URL:https://www.fenacerci.pt/evento/webinar-representacoes-sobre-o-conceito-de-empresa-social-origens-significado-debates-e-fronteira/
CATEGORIES:Eventos
END:VEVENT
END:VCALENDAR