BEGIN:VCALENDAR
VERSION:2.0
PRODID:-//Federação Nacional de Cooperativas de Solidariedade Social - ECPv6.15.20//NONSGML v1.0//EN
CALSCALE:GREGORIAN
METHOD:PUBLISH
X-ORIGINAL-URL:https://www.fenacerci.pt
X-WR-CALDESC:Eventos para Federação Nacional de Cooperativas de Solidariedade Social
REFRESH-INTERVAL;VALUE=DURATION:PT1H
X-Robots-Tag:noindex
X-PUBLISHED-TTL:PT1H
BEGIN:VTIMEZONE
TZID:UTC
BEGIN:STANDARD
TZOFFSETFROM:+0000
TZOFFSETTO:+0000
TZNAME:UTC
DTSTART:20230101T000000
END:STANDARD
END:VTIMEZONE
BEGIN:VEVENT
DTSTART;TZID=UTC:20240508T143000
DTEND;TZID=UTC:20240508T170000
DTSTAMP:20260420T223037
CREATED:20240426T162302Z
LAST-MODIFIED:20240507T115141Z
UID:9576-1715178600-1715187600@www.fenacerci.pt
SUMMARY:Sessão de lançamento da Campanha Pirilampo Mágico 2024
DESCRIPTION:O auditório do Museu Nacional dos Coches vai ser o palco da sessão de abertura da Campanha Pirilampo Mágico 2024 no dia 8 de maio\, a partir das 14h30. \nComo habitualmente\, este será o arranque simbólico da campanha\, que estará nas ruas de todo o país de 9 de maio a 2 de junho\, numa organização da FENACERCI\, da RTP e da Antena 1. \nA ministra da Juventude e Modernização\, Margarida Balseiro Lopes\, confirmou a sua presença na cerimónia\, que contará também com uma mensagem em vídeo do Presidente da República\, personalidade que\, desde a primeira hora\, abraça esta causa. \nPara além das entidades organizadoras\, marcarão presença no evento representantes dos patrocinadores (Pedro Leitão\, presidente da Direção Executiva do Banco Montepio\, e Filipa Pimental\, Diretora de Sustentabilidade e Impacto Social do Pingo Doce)\, as “madrinhas” da Campanha\, as antigas primeiras damas Manuela Eanes e Maria Cavaco Silva\, e várias personalidades da área da política\, cultura\, setor social e sociedade civil. \nUm dos momentos mais aguardados da sessão de abertura será a revelação da cor do Pirilampo Mágico\, o momento simbólico de lançamento da Campanha. \nPirilampo Mágico regressa para lançar a “A Magia de Solidariedade” de 9 de maio a 2 de junho
URL:https://www.fenacerci.pt/evento/sessao-de-lancamento-da-campanha-pirilampo-magico-2024/
CATEGORIES:Eventos
END:VEVENT
BEGIN:VEVENT
DTSTART;VALUE=DATE:20240509
DTEND;VALUE=DATE:20240603
DTSTAMP:20260420T223037
CREATED:20240426T162139Z
LAST-MODIFIED:20240426T162139Z
UID:9574-1715212800-1717372799@www.fenacerci.pt
SUMMARY:Campanha Pirilampo Mágico 2024
DESCRIPTION:
URL:https://www.fenacerci.pt/evento/campanha-pirilampo-magico-2024/
CATEGORIES:Eventos
END:VEVENT
BEGIN:VEVENT
DTSTART;TZID=UTC:20240524T100000
DTEND;TZID=UTC:20240524T123000
DTSTAMP:20260420T223037
CREATED:20240506T150712Z
LAST-MODIFIED:20240506T150820Z
UID:9630-1716544800-1716553800@www.fenacerci.pt
SUMMARY:Webinar “Envelhecimento e Deficiência Intelectual nas Cooperativas de Solidariedade Social e Entidades Congéneres”
DESCRIPTION:“Envelhecimento e Deficiência Intelectual nas Cooperativas de Solidariedade Social e Entidades Congéneres” é o tema do webinar que a FENACERCI leva a efeito no próximo dia 24 de maio\, entre as 10h e as 12h30. \nO evento assinala o arranque de uma parceria entre a Federação e a Universidade de Aveiro (UA) para um projeto de investigação sobre os desafios do envelhecimento da população com deficiência intelectual\, desenvolvido no âmbito do programa de Doutoramento em Gerontologia e Geriatria da UA. \nA investigação\, que decorrerá ao longo de dois anos\, prevê a colaboração e a participação da rede de associadas da FENACERCI e entidades congéneres\, num total de 88 organizações. \nO envelhecimento da população portuguesa tem suscitado múltiplos debates sobre as medidas estruturais a adotar para responder aos desafios sociais decorrentes deste fenómeno demográfico. Desafios que se colocam também à população com deficiência intelectual e\, consequentemente\, as organizações do setor social e solidário debatem-se cada vez mais com a necessidade de refletir sobre o atual modelo de respostas sociais dirigidas a estas pessoas e sobre a adoção de novas estratégias e modelos de intervenção. \nA FENACERCI\, consciente de que atualmente não existem dados científicos que permitam caracterizar esta população (sem os quais não será possível fazer uma reflexão séria nem definir possíveis soluções para a prestação de serviços de qualidade às pessoas com deficiência intelectual e/ou multideficiência)\, decidiu estabelecer um protocolo de colaboração com a Universidade de Aveiro visando desenvolver investigação nesta área. \nPrograma do Webinar \n10h00/10h20 – Abertura\nJoaquim Pequicho – Vice Presidente do Conselho de Administração e Administrador Executivo da FENACERCI \n10h20/10h40 – O papel da Estratégia Nacional para o Envelhecimento Ativo e Saudável na promoção da qualidade de vida das pessoas com deficiência intelectual – Nuno Marques\, Coordenador Nacional do Plano de Ação de Envelhecimento Ativo e Saudável \n10h40/10h50 – Pausa para café\n10h50/11h10 – Envelhecimento Saudável\, Políticas públicas e Envelhecimento das Pessoas com Deficiência Intelectual – Mariana Letra\, Aluna do Programa Doutoral em Gerontologia e Geriatria e membro da equipa de Estudo da FENACERCI \n11h10/11h30 – Apresentação do Projeto de Investigação Envelhecimento e Deficiência Intelectual nas Cooperativas de Solidariedade Social e Entidades Congéneres – Liliana Sousa\, Departamento de Educação e Psicologia\, cintesis@rise \n11h30/11h50 – Cooperativas de Solidariedade Social – principais obstáculos e desafios no trabalho desenvolvido junto da população mais velha com Deficiência Intelectual e/ou multideficiência – Fátima Duarte\, CERCILISBOA \n11h50/12h010- Reflexão e debate \nNota de Encerramento – Julieta Sanches\, Presidente do Conselho de Administração da FENACERCI; Professor Jorge Adelino Costa\, Diretor do Departamento de Educação e Psicologia\, UA \nA participação no evento é gratuita mas sujeita a inscrição prévia.\nInscreva-se aqui.
URL:https://www.fenacerci.pt/evento/webinar-envelhecimento-e-deficiencia-intelectual-nas-cooperativas-de-solidariedade-social-e-entidades-congeneres/
CATEGORIES:Eventos
ATTACH;FMTTYPE=image/jpeg:https://www.fenacerci.pt/wp-content/uploads/2024/05/Webinar_Envelhecimento.jpg
END:VEVENT
END:VCALENDAR