BEGIN:VCALENDAR
VERSION:2.0
PRODID:-//Federação Nacional de Cooperativas de Solidariedade Social - ECPv6.15.20//NONSGML v1.0//EN
CALSCALE:GREGORIAN
METHOD:PUBLISH
X-WR-CALNAME:Federação Nacional de Cooperativas de Solidariedade Social
X-ORIGINAL-URL:https://www.fenacerci.pt
X-WR-CALDESC:Eventos para Federação Nacional de Cooperativas de Solidariedade Social
REFRESH-INTERVAL;VALUE=DURATION:PT1H
X-Robots-Tag:noindex
X-PUBLISHED-TTL:PT1H
BEGIN:VTIMEZONE
TZID:UTC
BEGIN:STANDARD
TZOFFSETFROM:+0000
TZOFFSETTO:+0000
TZNAME:UTC
DTSTART:20230101T000000
END:STANDARD
END:VTIMEZONE
BEGIN:VEVENT
DTSTART;TZID=UTC:20240109T143000
DTEND;TZID=UTC:20240109T163000
DTSTAMP:20260420T160819
CREATED:20231221T143745Z
LAST-MODIFIED:20231221T143934Z
UID:9422-1704810600-1704817800@www.fenacerci.pt
SUMMARY:Sessão de divulgação do Compromisso de Cooperação para o Setor Social e Solidário – Protocolo para o Biénio 2023-24
DESCRIPTION:A CONFECOOP\, no âmbito da sua participação na Comissão Permanente do Sector Social e Solidário (CPSS)\, vai promover\, em parceria com a FENACERCI\, uma sessão de divulgação do Compromisso de Cooperação para o Setor Social e Solidário – Protocolo para o Biénio 2023-24. \nA iniciativa decorrerá em formato online\, no dia 9 de janeiro\, pelas 14h30\, tendo por objetivo apresentar e debater as principais alterações ao Compromisso de Cooperação e as respetivas alterações legislativas\, bem como analisar os objetivos que o setor social e solidário pretende atingir em sede de negociação com os parceiros e com o Estado.\nDada a relevância deste documento estratégico\, regulador das relações de cooperação entre o Governo e as organizações do setor social e solidário\, a organização considera da maior importância a participação de todas as cooperativas com acordo de cooperação no setor social\, na educação e na saúde. \nAceda aqui ao formulário de inscrição.
URL:https://www.fenacerci.pt/evento/sessao-de-divulgacao-do-compromisso-de-cooperacao-para-o-setor-social-e-solidario-protocolo-para-o-bienio-2023-24/
CATEGORIES:Eventos
END:VEVENT
END:VCALENDAR