BEGIN:VCALENDAR
VERSION:2.0
PRODID:-//Federação Nacional de Cooperativas de Solidariedade Social - ECPv6.15.20//NONSGML v1.0//EN
CALSCALE:GREGORIAN
METHOD:PUBLISH
X-ORIGINAL-URL:https://www.fenacerci.pt
X-WR-CALDESC:Eventos para Federação Nacional de Cooperativas de Solidariedade Social
REFRESH-INTERVAL;VALUE=DURATION:PT1H
X-Robots-Tag:noindex
X-PUBLISHED-TTL:PT1H
BEGIN:VTIMEZONE
TZID:UTC
BEGIN:STANDARD
TZOFFSETFROM:+0000
TZOFFSETTO:+0000
TZNAME:UTC
DTSTART:20210101T000000
END:STANDARD
END:VTIMEZONE
BEGIN:VEVENT
DTSTART;VALUE=DATE:20221015
DTEND;VALUE=DATE:20221107
DTSTAMP:20260421T013628
CREATED:20221017T102007Z
LAST-MODIFIED:20221017T102007Z
UID:8599-1665792000-1667779199@www.fenacerci.pt
SUMMARY:Campanha Pirilampo Mágico 2022
DESCRIPTION:A verdadeira magia é o que fazemos!\nA Campanha Pirilampo Mágico está de regresso. \nA Campanha irá decorrer de 15 de outubro a 6 de novembro de 2022. \n Mais informações
URL:https://www.fenacerci.pt/evento/campanha-pirilampo-magico-2022/
CATEGORIES:Eventos
END:VEVENT
BEGIN:VEVENT
DTSTART;TZID=UTC:20221107T093000
DTEND;TZID=UTC:20221107T173000
DTSTAMP:20260421T013628
CREATED:20221025T144937Z
LAST-MODIFIED:20221025T145028Z
UID:8655-1667813400-1667842200@www.fenacerci.pt
SUMMARY:I Encontro “Olhares sobre a Deficiência: Intervenção\, investigação e formação em rede”
DESCRIPTION:A FENACERCI em conjunto com a Universidade Lusíada de Lisboa gostaria de convidar todas as pessoas interessadas a participar no I Encontro “Olhares sobre a Deficiência: Intervenção\, investigação e formação em rede”\, que terá lugar no dia 7 de novembro\, das 9h30 às 17h30\, no Auditório 1 da Universidade Lusíada\, em Lisboa. \nA organização deste Encontro pretende constituir um momento de referência nacional na área da Deficiência reunindo anualmente\, profissionais\, docentes\, investigadores e alunos\, na discussão de um tema de aprofundamento. Este ano de 2022\, sendo a primeira concretização do Protocolo de cooperação entre o Instituto Superior de serviço Social de Lisboa – Universidade Lusíada (ISSSL-UL)\, o Centro Lusíada de Investigação em Serviço Social e Intervenção Social (CLISSIS) e a FENACERCI\, que será assinado nesta ocasião\, será tratado o tema “Envelhecimentos\, territórios e redes locais: Co-análise SWOT”. \nPode consultar o cartaz de divulgação e para efetuar a sua inscrição deverá aceder AQUI\, até ao próximo dia 3 de novembro. \nPara mais informações poderá contactar-nos através dos contactos: fenacerci@fenacerci.local ou  sara.neto@fenacerci.local.
URL:https://www.fenacerci.pt/evento/i-encontro-olhares-sobre-a-deficiencia/
CATEGORIES:Eventos
END:VEVENT
BEGIN:VEVENT
DTSTART;TZID=UTC:20221124T093000
DTEND;TZID=UTC:20221124T130000
DTSTAMP:20260421T013628
CREATED:20221111T111804Z
LAST-MODIFIED:20221111T111804Z
UID:8701-1669282200-1669294800@www.fenacerci.pt
SUMMARY:Encontro Mudar é possível…..Exemplos!
DESCRIPTION:O CIRE\, ao abrigo do programa de apoio ao associativismo promovido pela Câmara Municipal de Tomar\, vem por este meio divulgar o encontro Mudar é possível…..Exemplos! \nO evento será no próximo dia 24 de novembro de 2022 às 09h30 no auditório da Biblioteca Municipal de Tomar. \nAs inscrições são gratuitas e obrigatórias: clique aqui.
URL:https://www.fenacerci.pt/evento/encontro-mudar-e-possivel-exemplos/
CATEGORIES:Eventos
END:VEVENT
BEGIN:VEVENT
DTSTART;TZID=UTC:20221124T130000
DTEND;TZID=UTC:20221125T170000
DTSTAMP:20260421T013628
CREATED:20221115T134404Z
LAST-MODIFIED:20221117T184039Z
UID:8723-1669294800-1669395600@www.fenacerci.pt
SUMMARY:Seminário Luso-Brasileiro
DESCRIPTION:A FENACERCI em parceria com a Apae de Pára de Minas e o Instituto de Ensino e Pesquisa Darci Barbosa\, gostaria de convidar todas as pessoas interessadas a participar no seminário Luso-Brasileiro\, que terá lugar nos dias 24 e 25 de novembro\, em formato híbrido. \nO referido seminário enquadra-se no âmbito do protocolo de colaboração estabelecido entre a FENACERCI e a Apas de Pára de Minas\, que tem por objetivo aprofundar conhecimento e fortalecer sinergias entre Portugal e o Brasil no que respeita à promoção dos direitos e qualidade de vida das pessoas com deficiência intelectual e do desenvolvimento. \nPoderá consultar aqui o cartaz de divulgação e efetuar a sua inscrição\, até ao próximo dia 21 de novembro. \nAlertamos para o fato dos horários constantes do programa reportarem ao horário do Brasil\, havendo\, atualmente\, uma diferença de + 3 horas em Portugal. \n DOWNLOAD PROGRAMA\n\n \nPara mais informações poderá contactar-nos através do email: fenacerci@fenacerci.local.
URL:https://www.fenacerci.pt/evento/seminario-luso-brasileiro-24-e-25-novembro-inscricoes/
CATEGORIES:Eventos
END:VEVENT
END:VCALENDAR