BEGIN:VCALENDAR
VERSION:2.0
PRODID:-//Federação Nacional de Cooperativas de Solidariedade Social - ECPv6.15.20//NONSGML v1.0//EN
CALSCALE:GREGORIAN
METHOD:PUBLISH
X-ORIGINAL-URL:https://www.fenacerci.pt
X-WR-CALDESC:Eventos para Federação Nacional de Cooperativas de Solidariedade Social
REFRESH-INTERVAL;VALUE=DURATION:PT1H
X-Robots-Tag:noindex
X-PUBLISHED-TTL:PT1H
BEGIN:VTIMEZONE
TZID:UTC
BEGIN:STANDARD
TZOFFSETFROM:+0000
TZOFFSETTO:+0000
TZNAME:UTC
DTSTART:20240101T000000
END:STANDARD
END:VTIMEZONE
BEGIN:VEVENT
DTSTART;VALUE=DATE:20250509
DTEND;VALUE=DATE:20250602
DTSTAMP:20260422T001722
CREATED:20250527T202616Z
LAST-MODIFIED:20250708T143607Z
UID:10438-1746748800-1748822399@www.fenacerci.pt
SUMMARY:Campanha Pirilampo Mágico 2025
DESCRIPTION:SABER MAIS
URL:https://www.fenacerci.pt/evento/campanha-pirilampo-magico-2025/
CATEGORIES:Eventos
ATTACH;FMTTYPE=image/jpeg:https://www.fenacerci.pt/wp-content/uploads/2025/05/Pirilampo25_SITE-1920x560_COR.jpg
END:VEVENT
BEGIN:VEVENT
DTSTART;TZID=UTC:20250718T090000
DTEND;TZID=UTC:20250718T170000
DTSTAMP:20260422T001722
CREATED:20250714T163342Z
LAST-MODIFIED:20250714T163342Z
UID:11124-1752829200-1752858000@www.fenacerci.pt
SUMMARY:CERCIAV assinala 50 anos com seminário dedicado à Saúde Mental
DESCRIPTION:“Vamos falar de… saúde mental” é o tema de um seminário que a CERCIAV vai levar a efeito no próximo dia 18 de julho\, no Museu Marítimo de Ílhavo. \nDurante o dia\, vários oradores vão abordar temas como a doença mental ao longo do ciclo de vida\, a sua relação com contextos como a família e o trabalho\, sem esquecer vários testemunhos na primeira pessoa. \nO evento\, inserido nas comemorações dos 50 anos da CERCIAV\, pretende ser um espaço de partilha e reflexão sobre o bem-estar físico e psicológico\, dirigido a profissionais\, cuidadores e comunidade em geral. \nA participação é gratuita\, mas de inscrição prévia obrigatória (aceda aqui ao formulário). \n Download Programa\n 
URL:https://www.fenacerci.pt/evento/cerciav-assinala-50-anos-com-seminario-dedicado-a-saude-mental/
CATEGORIES:Eventos
END:VEVENT
BEGIN:VEVENT
DTSTART;VALUE=DATE:20251017
DTEND;VALUE=DATE:20251101
DTSTAMP:20260422T001722
CREATED:20251010T105527Z
LAST-MODIFIED:20251010T105702Z
UID:11271-1760659200-1761955199@www.fenacerci.pt
SUMMARY:Sociedade civil convidada para assinalar Dia Municipal para a Igualdade com atividades de promoção dos direitos
DESCRIPTION:Inscrições abertas até ao próximo dia 14 de outubro. \nTodos os anos\, organismos da Administração Central\, municípios e associações representativas da sociedade civil são convidados a dinamizar atividades que concorram para a cidadania local\, colocando a tónica na Igualdade como fator de desenvolvimento. \nEste ano\, o Dia Municipal para a Igualdade será assinalado de 17 a 31 de outubro\, através de uma agenda de iniciativas relacionadas com direitos das mulheres\, violência doméstica\, inclusão e direitos das pessoas com deficiência\, acolhimento de migrantes\, igualdade salarial\, combate à pobreza e igualdade de oportunidades. \nAté ao próximo dia 14 de outubro\, a Comissão organizadora convida as ONGPD\, organizações da sociedade civil\, os agrupamentos de escolas\, as autarquias e outras entidades\, a inscreverem as suas iniciativas na Agenda Nacional das celebrações do Dia Municipal para a Igualdade. \n▶️Aceda aqui ao formulário de inscrição da sua iniciativa: https://shre.ink/SmNf
URL:https://www.fenacerci.pt/evento/sociedade-civil-convidada-para-assinalar-dia-municipal-para-a-igualdade-com-atividades-de-promocao-dos-direitos/
CATEGORIES:Eventos
ATTACH;FMTTYPE=image/jpeg:https://www.fenacerci.pt/wp-content/uploads/2025/10/Dia-Municipal-para-a-Igualdade_suportes_digitais_site-home.jpg
END:VEVENT
END:VCALENDAR