BEGIN:VCALENDAR
VERSION:2.0
PRODID:-//Federação Nacional de Cooperativas de Solidariedade Social - ECPv6.15.20//NONSGML v1.0//EN
CALSCALE:GREGORIAN
METHOD:PUBLISH
X-WR-CALNAME:Federação Nacional de Cooperativas de Solidariedade Social
X-ORIGINAL-URL:https://www.fenacerci.pt
X-WR-CALDESC:Eventos para Federação Nacional de Cooperativas de Solidariedade Social
REFRESH-INTERVAL;VALUE=DURATION:PT1H
X-Robots-Tag:noindex
X-PUBLISHED-TTL:PT1H
BEGIN:VTIMEZONE
TZID:UTC
BEGIN:STANDARD
TZOFFSETFROM:+0000
TZOFFSETTO:+0000
TZNAME:UTC
DTSTART:20240101T000000
END:STANDARD
END:VTIMEZONE
BEGIN:VEVENT
DTSTART;TZID=UTC:20250409T140000
DTEND;TZID=UTC:20250410T170000
DTSTAMP:20260421T201219
CREATED:20250328T121535Z
LAST-MODIFIED:20250328T122703Z
UID:10285-1744207200-1744304400@www.fenacerci.pt
SUMMARY:FENACERCI acolhe II Seminário Luso-Brasileiro dias 9 e 10 de abril
DESCRIPTION:Organizações de apoio às pessoas com deficiência intelectual e/ou multideficiência de Portugal e do Brasil reúnem-se em Lisboa\, nos dias 9 e 10 de abril\, para a 2ª edição do Seminário Luso-Brasileiro\, que terá lugar na Torre do Tombo\, em Lisboa. \nEste evento\, cuja primeira edição aconteceu no Brasil em 2022\, é uma organização conjunta da FENACERCI e da Federação das APAEs do Estado de Minas Gerais\, com a colaboração do Instituto de Ensino e Pesquisa Darci Barbosa e da Faculdade Apae Brasil.\nO Seminário Luso-Brasileiro assume-se como um espaço de reflexão sobre os desafios e as oportunidades enfrentados pelas organizações de apoio às pessoas com deficiência intelectual e/ou multideficiência dos dois lados do Atlântico\, com particular ênfase na rede APAE (Associação de Pais e Amigos dos Excepcionais)\, no Brasil\, e no movimento CERCI – cooperativas de solidariedade social\, em Portugal. \nAo longo dos dois dias\, passarão pelo Auditório dos Arquivos Nacionais\, na Torre do Tombo\, várias personalidades da academia\, do setor social e das políticas públicas\, que abordarão temas como a sustentabilidade organizacional\, os caminhos para a inclusão comunitária e vida independente\, os desafios da longevidade da população com deficiência intelectual\, o diagnóstico duplo e as ferramentas ao serviço do conhecimento para os profissionais do setor social\, entre outros. \nSão destinatários do II Seminário Luso-Brasil os profissionais das organizações de apoio às pessoas com deficiência\, técnicos de instituições de solidariedade social\, docentes e alunos de instituições de ensino e centros de investigação na área das ciências sociais e humanas\, pessoas com deficiência e suas famílias\, técnicos de organismos públicos ligados ao setor social e solidário. \nA participação é gratuita\, mas sujeita a inscrição prévia (ver link abaixo). \n▶️ Consulte aqui o Programa\n▶️ Faça aqui a sua inscrição (até dia 4 de abril)
URL:https://www.fenacerci.pt/evento/fenacerci-acolhe-ii-seminario-luso-brasileiro-dias-9-e-10-de-abril/
CATEGORIES:Eventos
END:VEVENT
END:VCALENDAR