BEGIN:VCALENDAR
VERSION:2.0
PRODID:-//Federação Nacional de Cooperativas de Solidariedade Social - ECPv6.15.20//NONSGML v1.0//EN
CALSCALE:GREGORIAN
METHOD:PUBLISH
X-WR-CALNAME:Federação Nacional de Cooperativas de Solidariedade Social
X-ORIGINAL-URL:https://www.fenacerci.pt
X-WR-CALDESC:Eventos para Federação Nacional de Cooperativas de Solidariedade Social
REFRESH-INTERVAL;VALUE=DURATION:PT1H
X-Robots-Tag:noindex
X-PUBLISHED-TTL:PT1H
BEGIN:VTIMEZONE
TZID:UTC
BEGIN:STANDARD
TZOFFSETFROM:+0000
TZOFFSETTO:+0000
TZNAME:UTC
DTSTART:20240101T000000
END:STANDARD
END:VTIMEZONE
BEGIN:VEVENT
DTSTART;TZID=UTC:20250208T100000
DTEND;TZID=UTC:20250208T173000
DTSTAMP:20260421T153255
CREATED:20250127T144157Z
LAST-MODIFIED:20250127T144157Z
UID:10177-1739008800-1739035800@www.fenacerci.pt
SUMMARY:Seminário “Inclusão\, Transição e Empregabilidade da Pessoa com Deficiência e/ou Doença Mental”
DESCRIPTION:Realiza-se no próximo dia 8 de fevereiro\, pelas 10 horas\, no auditório do Centro de Medicina de Reabilitação de Alcoitão\, o seminário “Inclusão\, Transição e Empregabilidade da Pessoa com Deficiência e/ou Doença Mental”.\nUm evento que marca a abertura da Pós-Graduação sobre o mesmo tema\, promovida pela Escola Superior de Saúde de Alcoitão.\n“A situação da pessoa com deficiência e/ou doença mental em Portugal: da educação à inclusão no mercado de trabalho” é o título da palestra de abertura\, a cargo de Paula Campos Pinto\, docente universitária e investigadora no Instituto Superior de Ciências Sociais e Políticas.\nAo longo do dia\, decorrerão várias mesas redondas que se debruçam sobre a empregabilidade das pessoas com deficiência\, terminando com uma palestra sob o tema “A Inclusão como caminho para a equidade”\, proferida por David Rodrigues\, figura de reconhecido percurso na área da educação inclusiva.\nA participação no Seminário é gratuita mas carece de inscrição prévia. \nInformações e inscrição: https://www.essa.pt/save-the-date-seminario-sobre-inclusao-e-empregabilidade/ \nPrograma: \n10h00: Abertura\n10h15: Palestra – A situação da pessoa com deficiência e/ou doença mental em Portugal: da Educação à inclusão no mercado de trabalho -Professora Doutora Paula Campos Pinto\n11h15: Coffee-break\n11h30: Mesa-redonda 1 – Oportunidades que Transformam: Trajetórias de Educação e Trabalho\n12h30: Almoço\n14h00: Mesa-redonda 2 – Valorização pessoal para a Inclusão no horizonte da vida adulta\n15h00: Coffee-break\n15h15: Mesa-redonda 3 – Sinergias para a Inclusão: Empresas e Comunidades em Transformação\n16h15: Palestra – A Inclusão como caminho para a Equidade – Professor Doutor David Rodrigues \n 
URL:https://www.fenacerci.pt/evento/seminario-inclusao-transicao-e-empregabilidade-da-pessoa-com-deficiencia-e-ou-doenca-mental/
CATEGORIES:Eventos
END:VEVENT
END:VCALENDAR