BEGIN:VCALENDAR
VERSION:2.0
PRODID:-//Federação Nacional de Cooperativas de Solidariedade Social - ECPv6.15.20//NONSGML v1.0//EN
CALSCALE:GREGORIAN
METHOD:PUBLISH
X-WR-CALNAME:Federação Nacional de Cooperativas de Solidariedade Social
X-ORIGINAL-URL:https://www.fenacerci.pt
X-WR-CALDESC:Eventos para Federação Nacional de Cooperativas de Solidariedade Social
REFRESH-INTERVAL;VALUE=DURATION:PT1H
X-Robots-Tag:noindex
X-PUBLISHED-TTL:PT1H
BEGIN:VTIMEZONE
TZID:UTC
BEGIN:STANDARD
TZOFFSETFROM:+0000
TZOFFSETTO:+0000
TZNAME:UTC
DTSTART:20230101T000000
END:STANDARD
END:VTIMEZONE
BEGIN:VEVENT
DTSTART;VALUE=DATE:20241003
DTEND;VALUE=DATE:20241004
DTSTAMP:20260421T081833
CREATED:20240909T131458Z
LAST-MODIFIED:20240925T155111Z
UID:9933-1727913600-1727999999@www.fenacerci.pt
SUMMARY:“Hora #BEACTIVE – Ação Jamor” celebra Dia do Desporto Inclusivo
DESCRIPTION:Realiza-se no próximo dia 3 de outubro a 10ª edição da “Hora #BEACTIVE – Ação Jamor”\, numa organização conjunta da FENACERCI e do IPDJ – Instituto Português do Desporto e da Juventude. A iniciativa\, inserida na 10ª Semana Europeia do Desporto\, assinala o Dia do Desporto Inclusivo. \nDurante toda a manhã\, o Complexo Desportivo do Jamor vai receber centenas de participantes\, em representação de organizações de apoio a pessoas com deficiência de todo o país\, que serão convidados a experimentar um vasto conjunto de atividades desportivas e lúdicas\, tais como minigolfe\, canoagem\, hóquei\, atletismo\, esgrima\, corfebol\, artes marciais\, rugby\, ténis\, andebol\, escalada e jogos tradicionais\, entre outras. \nEm 2023\, a Ação Jamor envolveu mais de 300 pessoas com deficiência intelectual e/ou multideficiência\, de 31 organizações\, assim como 16 entidades parceiras que dinamizaram as atividades. \nA nível nacional\, a “Hora #BEACTIVE” – Dia do Desporto Inclusivo contou com um total de 1502 participantes. \nA Semana Europeia do Desporto\, que decorre de 23 a 30 de setembro\, é uma iniciativa da Comissão Europeia destinada a promover a atividade física e a prática desportiva regular no espaço europeu. \nO slogan #BeActive desafia todos os cidadãos\, independentemente da sua faixa etária ou condição física\, a participar nesta semana de celebração do desporto e a implementar\, ao longo do ano\, hábitos de vida ativa e saudável. \n \n 
URL:https://www.fenacerci.pt/evento/sed-2024-hora-beactive-acao-jamor-celebra-dia-do-desporto-inclusivo/
CATEGORIES:Eventos
END:VEVENT
END:VCALENDAR