BEGIN:VCALENDAR
VERSION:2.0
PRODID:-//Federação Nacional de Cooperativas de Solidariedade Social - ECPv6.15.20//NONSGML v1.0//EN
CALSCALE:GREGORIAN
METHOD:PUBLISH
X-ORIGINAL-URL:https://www.fenacerci.pt
X-WR-CALDESC:Eventos para Federação Nacional de Cooperativas de Solidariedade Social
REFRESH-INTERVAL;VALUE=DURATION:PT1H
X-Robots-Tag:noindex
X-PUBLISHED-TTL:PT1H
BEGIN:VTIMEZONE
TZID:UTC
BEGIN:STANDARD
TZOFFSETFROM:+0000
TZOFFSETTO:+0000
TZNAME:UTC
DTSTART:20230101T000000
END:STANDARD
END:VTIMEZONE
BEGIN:VEVENT
DTSTART;TZID=UTC:20240228T093000
DTEND;TZID=UTC:20240228T130000
DTSTAMP:20260420T193248
CREATED:20240209T170258Z
LAST-MODIFIED:20240209T170258Z
UID:9478-1709112600-1709125200@www.fenacerci.pt
SUMMARY:Evento Final “Sustentabilidade no Setor Social: Contributos do Projeto DNA3-Disseminação”
DESCRIPTION:A FENACERCI vai levar a efeito\, no dia 28 de fevereiro\, um evento online intitulado “Sustentabilidade no Setor Social: Contributos do Projeto DNA3-Disseminação”. \nEsta iniciativa assinala o encerramento do projeto DNA3 – Disseminação que\, ao longo de dois anos\, envolveu a participação de 30 organizações do setor social e solidário em processos de capacitação e desenvolvimento organizacional. \nDurante o evento\, será também apresentado o CIC – Centro de Inovação e Conhecimento\, desenvolvido no âmbito deste projeto\, com o apoio do Programa Cidad@os Ativos\, que representa uma ferramenta importante de partilha de conhecimento disponível ao público. \nO evento final “Sustentabilidade no Setor Social: Contributos do Projeto DNA3-Disseminação” irá ser realizado via plataforma zoom\, das 09h30 às 12h45. \nA participação é gratuita mas sujeita a inscrição obrigatória através de formulário disponível em https://freeonlinesurveys.com/s/qkkRo8y1 \nConsulte o Programa detalhado aqui.
URL:https://www.fenacerci.pt/evento/evento-final-sustentabilidade-no-setor-social-contributos-do-projeto-dna3-disseminacao/
CATEGORIES:Eventos
END:VEVENT
END:VCALENDAR