BEGIN:VCALENDAR
VERSION:2.0
PRODID:-//Federação Nacional de Cooperativas de Solidariedade Social - ECPv6.15.20//NONSGML v1.0//EN
CALSCALE:GREGORIAN
METHOD:PUBLISH
X-ORIGINAL-URL:https://www.fenacerci.pt
X-WR-CALDESC:Eventos para Federação Nacional de Cooperativas de Solidariedade Social
REFRESH-INTERVAL;VALUE=DURATION:PT1H
X-Robots-Tag:noindex
X-PUBLISHED-TTL:PT1H
BEGIN:VTIMEZONE
TZID:UTC
BEGIN:STANDARD
TZOFFSETFROM:+0000
TZOFFSETTO:+0000
TZNAME:UTC
DTSTART:20230101T000000
END:STANDARD
END:VTIMEZONE
BEGIN:VEVENT
DTSTART;TZID=UTC:20240220T093000
DTEND;TZID=UTC:20240220T140000
DTSTAMP:20260420T193248
CREATED:20240206T160402Z
LAST-MODIFIED:20240206T160821Z
UID:9453-1708421400-1708437600@www.fenacerci.pt
SUMMARY:Projeto RESPONSE | Conferência final dedicada aos impactos da promoção de serviços responsivos à violência de género contra mulheres com deficiência
DESCRIPTION:Realiza-se no próximo dia 20 de fevereiro a Conferência Final do projeto europeu RESPONSE – Promover serviços responsivos e sensíveis à violência baseada no género (VBG) contra mulheres com deficiência\, no qual a FENACERCI é entidade parceira. \nEste evento decorrerá em formato híbrido (presencial\, em Bruxelas\, e online)\, entre as 9.30h e as 13.30 horas (menos uma hora em Portugal Continental)\, estando a participação aberta a todas as pessoas com interesse pelo tema. \nDo programa da conferência\, onde participam diversos especialistas nas áreas dos direitos das pessoas com deficiência e da igualdade de género\, destacamos duas intervenções oriundas de Portugal: Sara Rocha\, oradora convidada na qualidade de membro do Fórum Europeu da Deficiência\, e Ana Lopes\, coordenadora da Casa Abrigo da CERCIAG [ver programa abaixo].\nOs trabalhos decorrerão em língua inglesa. \n➡️Mais informações sobre o evento em: https://easpd.eu/events-detail/project-dedicated-to-addressing-gender-based-violence-against-women-with-disabilities-wraps-up/ \n➡️Inscrições para participação online: https://bit.ly/3Sh65bw \n📌#MyStoryMatters | Para conhecer o projeto RESPONSE com mais detalhe\, veja o vídeo da campanha de sensibilização para a necessidade de promover serviços responsivos à VBG contra mulheres com deficiência – versão PT (duração: 2min36seg): https://www.youtube.com/watch?v=1K0z2_xudZI \n\nPROGRAMA\n9:30 – 10:00 (CET) – Receção aos participantes\n\n10:00 – 10:05 – Sessão de abertura (Thomas Bignal\, Secretário Geral da EASPD – European Association of Service Providers for Persons with Disabilities)\n10:05 – 10:15 – RESPONSE: Um projeto europeu para criar serviços sensíveis ao género e inclusivos para mulheres com deficiência (Giulia Bergamasco and Tiziana Fantucchio\, RESPONSE Project Coordinators\, EASPD) \n10:15 – 10:30 – Oradora convidada – Empoderando vozes: Combater a violência baseada no género contra mulheres com deficiência (Sara Rocha\, autorrepresentante e membro do Fórum Europeu da Deficiência – Comissão para as Mulheres) \n10:30 – 11:45 – Painel I – Derrubar barreiras: Explorando a abordagem do projeto RESPONSE para apoiar mulheres com deficiência vítimas de violência\n– Daiva Riliškytė\, pessoa apoiada e presidente do Conselho de Autorrepresentantes (Jaunuolių Dienos Centras)\n– Ana Lopes\, coordenadora da Casa de Abrigo (CERCIAG)\n– Carmen Pavòn and Noelia Revuelta\, Polícia Nacional Espanhola – Unidade Central para a Família e Mulheres\n– Kalianne Farren\, responsável de formação em e-Learning (EASPD)\nModeração: Natalia Pérez Fernández\, Consultora Jurídica (Plena Inclusión España) \n11:45 – 12:15 – Painel II – Mapear o caminho a seguir: Recomendações políticas para abordar a violência baseada no género contra mulheres com deficiência\nLesia Radelicki\, membro do Gabinete da Comissária para a Igualdade da UE\, Helena Dalli\nHelen Portal\, responsável pela área de Defesa de Direitos e Políticas da Inclusion Europe\nModeração: Irene Bertana\, responsável sénior de Políticas da EASPD \n12:15 – 13:15 – Almoço de networking\nExposição das recomendações políticas do projeto RESPONSE para combater a violência baseada no género contra mulheres com deficiência \n13:30 – Encerramento
URL:https://www.fenacerci.pt/evento/projeto-response-conferencia-final-dedicada-aos-impactos-da-promocao-de-servicos-responsivos-a-violencia-de-genero-contra-mulheres-com-deficiencia/
CATEGORIES:Eventos
END:VEVENT
END:VCALENDAR