BEGIN:VCALENDAR
VERSION:2.0
PRODID:-//Federação Nacional de Cooperativas de Solidariedade Social - ECPv6.15.20//NONSGML v1.0//EN
CALSCALE:GREGORIAN
METHOD:PUBLISH
X-ORIGINAL-URL:https://www.fenacerci.pt
X-WR-CALDESC:Eventos para Federação Nacional de Cooperativas de Solidariedade Social
REFRESH-INTERVAL;VALUE=DURATION:PT1H
X-Robots-Tag:noindex
X-PUBLISHED-TTL:PT1H
BEGIN:VTIMEZONE
TZID:UTC
BEGIN:STANDARD
TZOFFSETFROM:+0000
TZOFFSETTO:+0000
TZNAME:UTC
DTSTART:20220101T000000
END:STANDARD
END:VTIMEZONE
BEGIN:VEVENT
DTSTART;VALUE=DATE:20231123
DTEND;VALUE=DATE:20231125
DTSTAMP:20260420T143741
CREATED:20231114T175407Z
LAST-MODIFIED:20231114T175407Z
UID:9313-1700697600-1700870399@www.fenacerci.pt
SUMMARY:2ª Conferência Vozes da Inclusão em Braga
DESCRIPTION:Realiza-se nos próximos dias 23 e 24 de novembro\, em Braga\, a 2ª Conferência Vozes da Inclusão\, dedicada ao tema “Caminhos inclusivos: inovações científicas\, perspetivas e cenários”.\nUma iniciativa da CERCIBRAGA e da Casa do Professor\, em parceria com a FENACERCI\, que visa contribuir para a divulgação científica de estudos e práticas inovadoras\, bem como promover uma reflexão aberta sobre a deficiência. \nO evento realiza-se em formato híbrido\, sendo que a participação presencial garante\, a quem o pretender\, formação acreditada de 12 horas (CCPFC/ACC-121268/23). \nO programa inclui temáticas como a intervenção precoce\, a educação inclusiva ou a saúde mental. \nConsulte aqui o programa completo\nLink para inscrição
URL:https://www.fenacerci.pt/evento/2a-conferencia-vozes-da-inclusao-em-braga/
CATEGORIES:Eventos
ATTACH;FMTTYPE=image/jpeg:https://www.fenacerci.pt/wp-content/uploads/2023/11/2conferencia_vozes_da_inclusao_2023.jpg
END:VEVENT
END:VCALENDAR