BEGIN:VCALENDAR
VERSION:2.0
PRODID:-//Federação Nacional de Cooperativas de Solidariedade Social - ECPv6.15.20//NONSGML v1.0//EN
CALSCALE:GREGORIAN
METHOD:PUBLISH
X-WR-CALNAME:Federação Nacional de Cooperativas de Solidariedade Social
X-ORIGINAL-URL:https://www.fenacerci.pt
X-WR-CALDESC:Eventos para Federação Nacional de Cooperativas de Solidariedade Social
REFRESH-INTERVAL;VALUE=DURATION:PT1H
X-Robots-Tag:noindex
X-PUBLISHED-TTL:PT1H
BEGIN:VTIMEZONE
TZID:UTC
BEGIN:STANDARD
TZOFFSETFROM:+0000
TZOFFSETTO:+0000
TZNAME:UTC
DTSTART:20220101T000000
END:STANDARD
END:VTIMEZONE
BEGIN:VEVENT
DTSTART;VALUE=DATE:20231106
DTEND;VALUE=DATE:20231108
DTSTAMP:20260420T143144
CREATED:20231023T172955Z
LAST-MODIFIED:20231026T120526Z
UID:9282-1699228800-1699401599@www.fenacerci.pt
SUMMARY:Encontro Nacional de Técnicos das Cooperativas de Solidariedade Social
DESCRIPTION:Realiza-se nos próximos dias 6 e 7 de novembro\, no Centro Cultural e de Congressos das Caldas da Rainha\, o Encontro Nacional de Técnicos das Cooperativas de Solidariedade Social. \nOrganizado pela FENACERCI\, sob o tema “Inclusão 180º”\, o evento pretende assumir-se como espaço de encontro e de partilha entre os profissionais das suas associadas e\, simultaneamente\, como um fórum de reflexão sobre os desafios que se colocam às organizações de suporte à inclusão das pessoas com deficiência intelectual e/ou multideficiência. \nA sustentabilidade das organizações\, o envelhecimento e o bem-estar psicossocial\, a acessibilidade cognitiva e o acesso à justiça serão alguns dos temas em análise durante os dois dias de trabalho\, onde se confirmam já as presenças da ministra da Justiça\, Catarina Sarmento e Castro\, e da secretária de Estado para a Inclusão\, Ana Sofia Antunes. \n \n\n Aceda aqui ao Programa completo (pdf)\n Ficha de inscrição (exclusiva a profissionais das associadas da FENACERCI)\n Informações (pdf)
URL:https://www.fenacerci.pt/evento/encontro-nacional-de-tecnicos-das-cooperativas-de-solidariedade-social/
CATEGORIES:Eventos
END:VEVENT
BEGIN:VEVENT
DTSTART;TZID=UTC:20231106T140000
DTEND;TZID=UTC:20231106T170000
DTSTAMP:20260420T143144
CREATED:20231017T144539Z
LAST-MODIFIED:20231017T144555Z
UID:9275-1699279200-1699290000@www.fenacerci.pt
SUMMARY:EVENTO FINAL | Projeto DNA3 – Capacitação para a Sustentabilidade
DESCRIPTION:A FENACERCI irá promover\, no próximo dia 6 de novembro\, no Centro Cultural e de Congressos de Caldas da Rainha\, o evento final do Projeto DNA3 – Capacitação para a Sustentabilidade. \nIniciado em junho de 2021\, no âmbito do Programa Cidadãos Ativos e financiado pela Fundação Calouste Gulbenkian\, o projeto teve como principal objetivo a capacitação e qualificação interna da FENACERCI\, de forma a reforçar e otimizar o desempenho organizacional e a capacidade de intervenção da Federação junto das suas associadas\, destacando-a como organização de referência no setor social e solidário. \nNeste evento\, pretende-se partilhar o trabalho realizado ao longo de 30 meses e que reflete uma mudança interna\, suportada num novo modelo de gestão orientado para a capacitação dos recursos humanos e na criação de instrumentos e ferramentas promotores do conhecimento e inovação. \nPrograma do evento \nInformações: anaritaperalta@fenacerci.local (Gestora de projeto)
URL:https://www.fenacerci.pt/evento/evento-final-projeto-dna3-capacitacao-para-a-sustentabilidade/
CATEGORIES:Eventos
ATTACH;FMTTYPE=image/jpeg:https://www.fenacerci.pt/wp-content/uploads/2023/10/DIVULGACAO_EVENTO-FINAL-dna3.jpg
END:VEVENT
END:VCALENDAR