BEGIN:VCALENDAR
VERSION:2.0
PRODID:-//Federação Nacional de Cooperativas de Solidariedade Social - ECPv6.15.20//NONSGML v1.0//EN
CALSCALE:GREGORIAN
METHOD:PUBLISH
X-ORIGINAL-URL:https://www.fenacerci.pt
X-WR-CALDESC:Eventos para Federação Nacional de Cooperativas de Solidariedade Social
REFRESH-INTERVAL;VALUE=DURATION:PT1H
X-Robots-Tag:noindex
X-PUBLISHED-TTL:PT1H
BEGIN:VTIMEZONE
TZID:UTC
BEGIN:STANDARD
TZOFFSETFROM:+0000
TZOFFSETTO:+0000
TZNAME:UTC
DTSTART:20220101T000000
END:STANDARD
END:VTIMEZONE
BEGIN:VEVENT
DTSTART;TZID=UTC:20231010T093000
DTEND;TZID=UTC:20231010T133000
DTSTAMP:20260420T130801
CREATED:20231004T154523Z
LAST-MODIFIED:20231004T154624Z
UID:9265-1696930200-1696944600@www.fenacerci.pt
SUMMARY:Encontro Nacional das Organizações de Formação Profissional e Emprego de Pessoas com Deficiência
DESCRIPTION:Realiza-se no próximo dia 10 de outubro\, em Coimbra\, o Encontro Nacional de Organizações da Formação Profissional e Emprego.\nUma iniciativa da Plataforma das Organizações de Formação Profissional e Emprego de Pessoas com Deficiência\, que a FENACERCI integra\, e que pretende constituir um momento de reflexão e discussão conjunta sobre questões relacionadas com esta área.\n\n Link para inscrições\n\n Programa do Encontro
URL:https://www.fenacerci.pt/evento/encontro-nacional-das-organizacoes-de-formacao-profissional-e-emprego-de-pessoas-com-deficiencia/
CATEGORIES:Eventos
END:VEVENT
END:VCALENDAR