BEGIN:VCALENDAR
VERSION:2.0
PRODID:-//Federação Nacional de Cooperativas de Solidariedade Social - ECPv6.15.20//NONSGML v1.0//EN
CALSCALE:GREGORIAN
METHOD:PUBLISH
X-WR-CALNAME:Federação Nacional de Cooperativas de Solidariedade Social
X-ORIGINAL-URL:https://www.fenacerci.pt
X-WR-CALDESC:Eventos para Federação Nacional de Cooperativas de Solidariedade Social
REFRESH-INTERVAL;VALUE=DURATION:PT1H
X-Robots-Tag:noindex
X-PUBLISHED-TTL:PT1H
BEGIN:VTIMEZONE
TZID:UTC
BEGIN:STANDARD
TZOFFSETFROM:+0000
TZOFFSETTO:+0000
TZNAME:UTC
DTSTART:20220101T000000
END:STANDARD
END:VTIMEZONE
BEGIN:VEVENT
DTSTART;TZID=UTC:20230922T090000
DTEND;TZID=UTC:20230922T130000
DTSTAMP:20260420T114058
CREATED:20230918T173352Z
LAST-MODIFIED:20230918T173352Z
UID:9239-1695373200-1695387600@www.fenacerci.pt
SUMMARY:Fórum “O Futuro dos Cuidados Continuados” em Santiago do Cacém
DESCRIPTION:“O Futuro dos Cuidados Continuados” é o tema do fórum que a Fundação Caixa Agrícola Costa Azul leva a efeito no próximo dia 22 de setembro. \nO evento\, exclusivamente presencial\, terá lugar entre as 9h e as 13h\, no Centro de Formação Crédito Agrícola\, em Santiago do Cacém. \nMais informações e programa completo em: https://www.fundacaocaixagricolacostazul.com/forum
URL:https://www.fenacerci.pt/evento/forum-o-futuro-dos-cuidados-continuados-em-santiago-do-cacem/
CATEGORIES:Eventos
ATTACH;FMTTYPE=image/jpeg:https://www.fenacerci.pt/wp-content/uploads/2023/09/banner-220923-SITE.jpg
END:VEVENT
END:VCALENDAR