BEGIN:VCALENDAR
VERSION:2.0
PRODID:-//Federação Nacional de Cooperativas de Solidariedade Social - ECPv6.15.20//NONSGML v1.0//EN
CALSCALE:GREGORIAN
METHOD:PUBLISH
X-WR-CALNAME:Federação Nacional de Cooperativas de Solidariedade Social
X-ORIGINAL-URL:https://www.fenacerci.pt
X-WR-CALDESC:Eventos para Federação Nacional de Cooperativas de Solidariedade Social
REFRESH-INTERVAL;VALUE=DURATION:PT1H
X-Robots-Tag:noindex
X-PUBLISHED-TTL:PT1H
BEGIN:VTIMEZONE
TZID:UTC
BEGIN:STANDARD
TZOFFSETFROM:+0000
TZOFFSETTO:+0000
TZNAME:UTC
DTSTART:20220101T000000
END:STANDARD
END:VTIMEZONE
BEGIN:VEVENT
DTSTART;TZID=UTC:20230703T170000
DTEND;TZID=UTC:20230707T130000
DTSTAMP:20260420T143134
CREATED:20230321T140951Z
LAST-MODIFIED:20230517T180719Z
UID:8846-1688403600-1688734800@www.fenacerci.pt
SUMMARY:KLAARA 2023 | 3ª Conferência sobre Linguagem e Comunicação Acessível
DESCRIPTION:NOTA IMPORTANTE: Devido a um ataque informático ao site do Politécnico de Leiria\, onde se encontra alojado\, o site da 3ª Conferência KLAARA está atualmente inacessível. Pela situação\, a que a organização é alheia\, o nosso pedido de desculpa. \nEstão abertas as inscrições para a KLAARA 2023 – 3ª Conferência sobre Linguagem e Comunicação Acessível\, que decorrerá na cidade de Leiria\, de 3 a 7 de julho. \nO evento\, promovido pela FENACERCI em parceria com a Escola Superior de Educação e Ciências Sociais do Politécnico de Leiria e o CRID – Centro de Recursos para a Inclusão Digital\, é ponto de encontro de investigadores\, técnicos e profissionais interessados no estudo da linguagem fácil e no desenvolvimento de ferramentas de comunicação acessível.\nO programa desta conferência multidisciplinar abrange áreas como as ciências sociais\, a linguística\, educação especial\, comunicação visual\, estudos de tradução ou design da informação.\nA organização pretende ir para além do plano académico\, evidenciando a aplicabilidade do conhecimento científico ao desenvolvimento de ferramentas concretas de apoio à reabilitação\, educação\, cultura e cidadania inclusivas. \nAinda no âmbito da KLAARA 2023\, decorrerão ações de formação acreditada de curta duração para docentes de todos os ciclos de ensino. \nOs interessados poderão optar pelas seguintes modalidades:\n \n\n a) “Linguagem Simples e Escrita Fácil” (4 horas)\nData: 4 de julho de 2023\nPreço: 10 euros\n b) “Acessibilidade Comunicacional” (6 horas)\nData: 6 de julho de 2023\nPreço: 15 euros\n c) Ambas as ações\, no total de 10 horas\nPreço: 25 euros\n d) Ambas as ações + Conferência\nPreço: 30 euros\n\n \n\nInscrições (PT) \nRegistrations (EN)
URL:https://www.fenacerci.pt/evento/klaara-2023-3a-conferencia-sobre-linguagem-e-comunicacao-acessivel/
CATEGORIES:Eventos
END:VEVENT
END:VCALENDAR