BEGIN:VCALENDAR
VERSION:2.0
PRODID:-//Federação Nacional de Cooperativas de Solidariedade Social - ECPv6.15.20//NONSGML v1.0//EN
CALSCALE:GREGORIAN
METHOD:PUBLISH
X-WR-CALNAME:Federação Nacional de Cooperativas de Solidariedade Social
X-ORIGINAL-URL:https://www.fenacerci.pt
X-WR-CALDESC:Eventos para Federação Nacional de Cooperativas de Solidariedade Social
REFRESH-INTERVAL;VALUE=DURATION:PT1H
X-Robots-Tag:noindex
X-PUBLISHED-TTL:PT1H
BEGIN:VTIMEZONE
TZID:UTC
BEGIN:STANDARD
TZOFFSETFROM:+0000
TZOFFSETTO:+0000
TZNAME:UTC
DTSTART:20220101T000000
END:STANDARD
END:VTIMEZONE
BEGIN:VEVENT
DTSTART;TZID=UTC:20230412T100000
DTEND;TZID=UTC:20230412T120000
DTSTAMP:20260420T192153
CREATED:20230404T081453Z
LAST-MODIFIED:20230404T081453Z
UID:8863-1681293600-1681300800@www.fenacerci.pt
SUMMARY:FENACERCI e Universidade Lusíada promovem Aula Aberta sobre conceito de “Instituição Total”
DESCRIPTION:A FENACERCI\, no âmbito do protocolo de cooperação estabelecido com o ISSSL-Universidade Lusíada\, vai promover uma aula aberta online dedicada ao tema «O conceito de “Instituição total” (Goffman): uma introdução»\, seguida de uma reflexão sobre o seu funcionamento institucional à luz deste conceito.\nA aula aberta vai ter lugar no dia 12 de abril\, entre as 10h e as 12h\, através da plataforma Teams\, e será dinamizada pelo Prof. Doutor Michel Binet. \nEsta iniciativa constitui um primeiro momento de trabalho em torno da temática da “Desinstitucionalização”\, área de ação prioritária para a Federação e sobre a qual incidirá o II Encontro Olhares sobre a Deficiência: Intervenção\, investigação e formação em rede\, que se vai realizar a 31 de maio\, também em parceria com a Universidade Lusíada. \nAs inscrições para a Aula Aberta podem ser realizadas até ao próximo dia 10 de abril.\n \n\n Inscreva-se aqui\n Para mais informações sobre o evento\, consulte o documento aqui disponível
URL:https://www.fenacerci.pt/evento/fenacerci-e-universidade-lusiada-promovem-aula-aberta-sobre-conceito-de-instituicao-total/
CATEGORIES:Eventos
END:VEVENT
END:VCALENDAR