BEGIN:VCALENDAR
VERSION:2.0
PRODID:-//Federação Nacional de Cooperativas de Solidariedade Social - ECPv6.15.20//NONSGML v1.0//EN
CALSCALE:GREGORIAN
METHOD:PUBLISH
X-ORIGINAL-URL:https://www.fenacerci.pt
X-WR-CALDESC:Eventos para Federação Nacional de Cooperativas de Solidariedade Social
REFRESH-INTERVAL;VALUE=DURATION:PT1H
X-Robots-Tag:noindex
X-PUBLISHED-TTL:PT1H
BEGIN:VTIMEZONE
TZID:UTC
BEGIN:STANDARD
TZOFFSETFROM:+0000
TZOFFSETTO:+0000
TZNAME:UTC
DTSTART:20220101T000000
END:STANDARD
END:VTIMEZONE
BEGIN:VEVENT
DTSTART;TZID=UTC:20230303T100000
DTEND;TZID=UTC:20230303T120000
DTSTAMP:20260420T205819
CREATED:20230228T153022Z
LAST-MODIFIED:20230228T153208Z
UID:8798-1677837600-1677844800@www.fenacerci.pt
SUMMARY:Sessão de apresentação pública do Plano de Ação Garantia para a Infância 2022-2030
DESCRIPTION:Realiza-se no próximo dia 3 de março\, pelas 10 horas\, a sessão de apresentação pública do Plano de Ação da Garantia para a Infância 2022-2030\, através de transmissão online. \nA Garantia para a Infância tem com objetivo prevenir e combater a pobreza e a exclusão social\, colocando as crianças e os jovens no centro das suas prioridades\, contribuindo também para defender os direitos da criança\, combatendo a pobreza infantil e promovendo a igualdade de oportunidades e assim concretizar o princípio do 11º Pilar Europeu dos Direitos Sociais e o seu Plano de Ação\, que estabelece como meta reduzir em\, pelo menos\, 5 milhões o número de crianças nesta situação\, até 2030. \nO Plano de Ação Nacional da Garantia para a Infância foi aprovado pelo Conselho de Ministros no dia 17 de janeiro último (RCM nº 3/2023). \nAcompanhe aqui a sessão de apresentação pública deste Plano de Ação. \nhttps://www.youtube.com/watch?v=6YSd1mSEwGE
URL:https://www.fenacerci.pt/evento/sessao-de-apresentacao-publica-do-plano-de-acao-garantia-para-a-infancia-2022-2030/
CATEGORIES:Eventos
ATTACH;FMTTYPE=image/jpeg:https://www.fenacerci.pt/wp-content/uploads/2023/02/garantia_infancia.jpg
END:VEVENT
END:VCALENDAR