BEGIN:VCALENDAR
VERSION:2.0
PRODID:-//Federação Nacional de Cooperativas de Solidariedade Social - ECPv6.15.20//NONSGML v1.0//EN
CALSCALE:GREGORIAN
METHOD:PUBLISH
X-WR-CALNAME:Federação Nacional de Cooperativas de Solidariedade Social
X-ORIGINAL-URL:https://www.fenacerci.pt
X-WR-CALDESC:Eventos para Federação Nacional de Cooperativas de Solidariedade Social
REFRESH-INTERVAL;VALUE=DURATION:PT1H
X-Robots-Tag:noindex
X-PUBLISHED-TTL:PT1H
BEGIN:VTIMEZONE
TZID:UTC
BEGIN:STANDARD
TZOFFSETFROM:+0000
TZOFFSETTO:+0000
TZNAME:UTC
DTSTART:20210101T000000
END:STANDARD
END:VTIMEZONE
BEGIN:VEVENT
DTSTART;VALUE=DATE:20220928
DTEND;VALUE=DATE:20220929
DTSTAMP:20260421T060203
CREATED:20220927T125442Z
LAST-MODIFIED:20220927T131459Z
UID:8182-1664323200-1664409599@www.fenacerci.pt
SUMMARY:Dia do Desporto Inclusivo
DESCRIPTION:A FENACERCI\, em parceria com o Instituto Português de Desporto e Juventude I.P (IPDJ)\, vai realizar um evento de índole lúdico/ desportivo/ recreativo denominado “HORA #BEACTIVE – Ação Jamor”. \nO evento consiste na realização de um conjunto de atividades de índole lúdico/ desportivo/ recreativo (Slalom\, Atletismo\, Corfebol\, Boxe\, Futebol\, Futebol de Rua\, Ténis\, Andebol\, Escalada\, Skate\, Jogos tradicionais\, Zumba\, entre outras) e irá contar com a participação ativa de 280 pessoas com deficiência intelectual e/ou multideficiência\, oriundas de 23 organizações da rede de associadas da Fenacerci. \nPara a dinamização de estações de experimentação sobre as diferentes atividades desportivas\, contamos com a colaboração de várias Federações: AGAP Portugal Ativo\, Federação Portuguesa de Andebol\, Associação Jorge Pina\, APCAS Associação de Paralisia Cerebral Almada Seixal\, Associação Zona Solta\, Federação Portuguesa de Corfebol\, Federação Portuguesa de Atletismo\, Federação Portuguesa de Ténis\, Fundação Benfica\, Federação Portuguesa de Basquetebol\, Escola de Judo Nuno Delgado\, Associação CAIS\, Federação Portuguesa de Desporto para Pessoas com Deficiência\, Federação Portuguesa de Jogos Tradicionais e Federação de Campismo e Montanhismo de Portugal.
URL:https://www.fenacerci.pt/evento/dia-do-desporto-inclusivo/
CATEGORIES:Eventos
END:VEVENT
END:VCALENDAR